BEGIN:VCALENDAR
VERSION:2.0
PRODID:-//Rhodes 2 Safety - ECPv6.15.20//NONSGML v1.0//EN
CALSCALE:GREGORIAN
METHOD:PUBLISH
X-WR-CALNAME:Rhodes 2 Safety
X-ORIGINAL-URL:https://rhodes2safety.com
X-WR-CALDESC:Events for Rhodes 2 Safety
REFRESH-INTERVAL;VALUE=DURATION:PT1H
X-Robots-Tag:noindex
X-PUBLISHED-TTL:PT1H
BEGIN:VTIMEZONE
TZID:Europe/London
BEGIN:DAYLIGHT
TZOFFSETFROM:+0000
TZOFFSETTO:+0100
TZNAME:BST
DTSTART:20250330T010000
END:DAYLIGHT
BEGIN:STANDARD
TZOFFSETFROM:+0100
TZOFFSETTO:+0000
TZNAME:GMT
DTSTART:20251026T010000
END:STANDARD
BEGIN:DAYLIGHT
TZOFFSETFROM:+0000
TZOFFSETTO:+0100
TZNAME:BST
DTSTART:20260329T010000
END:DAYLIGHT
BEGIN:STANDARD
TZOFFSETFROM:+0100
TZOFFSETTO:+0000
TZNAME:GMT
DTSTART:20261025T010000
END:STANDARD
BEGIN:DAYLIGHT
TZOFFSETFROM:+0000
TZOFFSETTO:+0100
TZNAME:BST
DTSTART:20270328T010000
END:DAYLIGHT
BEGIN:STANDARD
TZOFFSETFROM:+0100
TZOFFSETTO:+0000
TZNAME:GMT
DTSTART:20271031T010000
END:STANDARD
END:VTIMEZONE
BEGIN:VEVENT
DTSTART;TZID=Europe/London:20260410T153000
DTEND;TZID=Europe/London:20260410T190000
DTSTAMP:20260419T204212
CREATED:20260303T152807Z
LAST-MODIFIED:20260304T181751Z
UID:10005048-1775835000-1775847600@rhodes2safety.com
SUMMARY:EDINBURGH AREA CANINE 1ST AID SEMINAR
DESCRIPTION:We are delighted to have been invited to deliver a session in Balerno\, Edinburgh while we are up in Scotland in April\, 2026 \nThis session\, just like all our others\, is sure to be fun\,  lively and incredibly effective at getting the important first aid information across that could well save the life of your furry companion.  Teaching time is 3.5 hours with 15 minute break for FREE tea OR coffee. \nThe K9 1st Aid courses delivered by Rhodes 2 Safety have been ranked as the UK’s Number 1 consistently since 2016 and this year we can also add being a finalist in the Pet Related Business of the Year Award\, 2024 – so you know the information and service you get will be second-to-none. \nWe deal with shock\, bleeding\, choking\, bites\, road traffic accidents as well as the big topics of CPR and Artificial Respiration \nStudents DO NOT bring their dogs\, but I will have one or two of my Ridgebacks with me for demonstration purposes.\n.\nEach student will gain a certificate of attendance and full course notes to take away\, so note taking throughout the session is unnecessary.\n.\nEverybody will be seated in a horseshoe so that EVERYBODY is on the front row – nobody should be struggling to see.\n.\nDuring the bandaging section\, I will demonstrate on one of my dogs.  A dog cannot give you any feedback about your skills so by practicing your skills on a person\, we can get their honest opinion once the bandage is complete. Human skin also reacts by changing colour and temperature if it is too tight and swells up.  To practice on a toy would not give you any of this feedback and I would not be happy about anybody practicing on a live animal until they are proficient in it – I am\, however\, more than happy for them to torture a human!\n.\nAt the end of the session\, there will be first aid products on sale too such as our Rhodes 2 Recovery book\, bandages\, first aid kits\, vet wrap\, tick pickers etc.
URL:https://rhodes2safety.com/event/edinburgh-area-canine-1st-aid-seminar/
LOCATION:Balerno Scouts\, Ladycroft\, Balerno\, Edinburgh\, Scotland\, EH14 7AG
CATEGORIES:Canine First Aid
ATTACH;FMTTYPE=image/jpeg:https://rhodes2safety.com/wp-content/uploads/2020/07/Mask-how-to-wear-1.jpg
END:VEVENT
END:VCALENDAR