BEGIN:VCALENDAR
VERSION:2.0
PRODID:-//Rhodes 2 Safety - ECPv6.15.20//NONSGML v1.0//EN
CALSCALE:GREGORIAN
METHOD:PUBLISH
X-ORIGINAL-URL:https://rhodes2safety.com
X-WR-CALDESC:Events for Rhodes 2 Safety
REFRESH-INTERVAL;VALUE=DURATION:PT1H
X-Robots-Tag:noindex
X-PUBLISHED-TTL:PT1H
BEGIN:VTIMEZONE
TZID:Europe/London
BEGIN:DAYLIGHT
TZOFFSETFROM:+0000
TZOFFSETTO:+0100
TZNAME:BST
DTSTART:20160327T010000
END:DAYLIGHT
BEGIN:STANDARD
TZOFFSETFROM:+0100
TZOFFSETTO:+0000
TZNAME:GMT
DTSTART:20161030T010000
END:STANDARD
BEGIN:DAYLIGHT
TZOFFSETFROM:+0000
TZOFFSETTO:+0100
TZNAME:BST
DTSTART:20170326T010000
END:DAYLIGHT
BEGIN:STANDARD
TZOFFSETFROM:+0100
TZOFFSETTO:+0000
TZNAME:GMT
DTSTART:20171029T010000
END:STANDARD
BEGIN:DAYLIGHT
TZOFFSETFROM:+0000
TZOFFSETTO:+0100
TZNAME:BST
DTSTART:20180325T010000
END:DAYLIGHT
BEGIN:STANDARD
TZOFFSETFROM:+0100
TZOFFSETTO:+0000
TZNAME:GMT
DTSTART:20181028T010000
END:STANDARD
BEGIN:DAYLIGHT
TZOFFSETFROM:+0000
TZOFFSETTO:+0100
TZNAME:BST
DTSTART:20190331T010000
END:DAYLIGHT
BEGIN:STANDARD
TZOFFSETFROM:+0100
TZOFFSETTO:+0000
TZNAME:GMT
DTSTART:20191027T010000
END:STANDARD
BEGIN:DAYLIGHT
TZOFFSETFROM:+0000
TZOFFSETTO:+0100
TZNAME:BST
DTSTART:20200329T010000
END:DAYLIGHT
BEGIN:STANDARD
TZOFFSETFROM:+0100
TZOFFSETTO:+0000
TZNAME:GMT
DTSTART:20201025T010000
END:STANDARD
BEGIN:DAYLIGHT
TZOFFSETFROM:+0000
TZOFFSETTO:+0100
TZNAME:BST
DTSTART:20210328T010000
END:DAYLIGHT
BEGIN:STANDARD
TZOFFSETFROM:+0100
TZOFFSETTO:+0000
TZNAME:GMT
DTSTART:20211031T010000
END:STANDARD
BEGIN:DAYLIGHT
TZOFFSETFROM:+0000
TZOFFSETTO:+0100
TZNAME:BST
DTSTART:20220327T010000
END:DAYLIGHT
BEGIN:STANDARD
TZOFFSETFROM:+0100
TZOFFSETTO:+0000
TZNAME:GMT
DTSTART:20221030T010000
END:STANDARD
BEGIN:DAYLIGHT
TZOFFSETFROM:+0000
TZOFFSETTO:+0100
TZNAME:BST
DTSTART:20230326T010000
END:DAYLIGHT
BEGIN:STANDARD
TZOFFSETFROM:+0100
TZOFFSETTO:+0000
TZNAME:GMT
DTSTART:20231029T010000
END:STANDARD
BEGIN:DAYLIGHT
TZOFFSETFROM:+0000
TZOFFSETTO:+0100
TZNAME:BST
DTSTART:20240331T010000
END:DAYLIGHT
BEGIN:STANDARD
TZOFFSETFROM:+0100
TZOFFSETTO:+0000
TZNAME:GMT
DTSTART:20241027T010000
END:STANDARD
BEGIN:DAYLIGHT
TZOFFSETFROM:+0000
TZOFFSETTO:+0100
TZNAME:BST
DTSTART:20250330T010000
END:DAYLIGHT
BEGIN:STANDARD
TZOFFSETFROM:+0100
TZOFFSETTO:+0000
TZNAME:GMT
DTSTART:20251026T010000
END:STANDARD
BEGIN:DAYLIGHT
TZOFFSETFROM:+0000
TZOFFSETTO:+0100
TZNAME:BST
DTSTART:20260329T010000
END:DAYLIGHT
BEGIN:STANDARD
TZOFFSETFROM:+0100
TZOFFSETTO:+0000
TZNAME:GMT
DTSTART:20261025T010000
END:STANDARD
END:VTIMEZONE
BEGIN:VEVENT
DTSTART;TZID=Europe/London:20251005T100000
DTEND;TZID=Europe/London:20251005T133000
DTSTAMP:20260421T164149
CREATED:20250901T141810Z
LAST-MODIFIED:20250901T141810Z
UID:10005013-1759658400-1759671000@rhodes2safety.com
SUMMARY:WAGGY TAILS GLASGOW K9 1ST AID WORKSHOP
DESCRIPTION:We are delighted to be hosting a repeat session for Waggy Tails – the third time we’ve been invited back so we must be doing something right! \nThis session\, just like all our others\, is sure to be fun\,  lively and incredibly effective at getting the important first aid information across that could well save the life of your furry companion.  Teaching time is 3.5 hours with 15 minute break for FREE tea OR coffee. \nThe K9 1st Aid courses delivered by Rhodes 2 Safety have been ranked as the UK’s Number 1 consistently since 2016 and this year we can also add being a finalist in the Pet Related Business of the Year Award\, 2024 – so you know the information and service you get will be second-to-none. \nWe deal with shock\, bleeding\, choking\, bites\, road traffic accidents as well as the big topics of CPR and Artificial Respiration \nStudents DO NOT bring their dogs\, but I will have one or two of my Ridgebacks with me for demonstration purposes.\n.\nEach student will gain a certificate of attendance and full course notes to take away\, so note taking throughout the session is unnecessary. For students attending as part of their vocational studies\, the course generates 3 CPD points.\n.\nEverybody will be seated in a horseshoe so that EVERYBODY is on the front row – nobody should be struggling to see.\n.\nDuring the bandaging section\, I will demonstrate on one of my dogs.  A dog cannot give you any feedback about your skills so by practicing your skills on a person\, we can get their honest opinion once the bandage is complete. Human skin also reacts by changing colour and temperature if it is too tight and swells up.  To practice on a toy would not give you any of this feedback and I would not be happy about anybody practicing on a live animal until they are proficient in it – I am\, however\, more than happy for them to torture a human!\n.\nAt the end of the session\, there will be first aid products on sale too such as our Rhodes 2 Recovery book\, bandages\, first aid kits\, vet wrap\, tick pickers etc.\n\nCome and join us
URL:https://rhodes2safety.com/event/waggy-tails-glasgow-k9-1st-aid-workshop/
LOCATION:Waggy Tails\, Edmonstone Hall\, 23 Glasgow Road\, Blanesfield\, Glasgow\, G639JD
CATEGORIES:Canine First Aid
ATTACH;FMTTYPE=image/jpeg:https://rhodes2safety.com/wp-content/uploads/2017/08/Bishop-Burton-Emily.jpg
GEO:55.9330092;-4.3489658
X-APPLE-STRUCTURED-LOCATION;VALUE=URI;X-ADDRESS=Waggy Tails Edmonstone Hall 23 Glasgow Road Blanesfield Glasgow G639JD;X-APPLE-RADIUS=500;X-TITLE=Edmonstone Hall\, 23 Glasgow Road\, Blanesfield:geo:-4.3489658,55.9330092
END:VEVENT
BEGIN:VEVENT
DTSTART;TZID=Europe/London:20240414T150000
DTEND;TZID=Europe/London:20240414T183000
DTSTAMP:20260421T164149
CREATED:20240123T172939Z
LAST-MODIFIED:20240227T164150Z
UID:10004921-1713106800-1713119400@rhodes2safety.com
SUMMARY:K9 1st Aid Training - Glasgow
DESCRIPTION:We are delighted to have been invited back to Glasgow\, as guests of the lovely members of Waggy Tails.  This session\, just like all our others\, is sure to be fun\,  lively and incredibly effective at getting the important first aid information across that could well save the life of your furry companion. \nThe K9 1st Aid courses delivered by Rhodes 2 Safety have been ranked as the UK’s Number 1 consistently since 2016\, so you know the information and service you get will be second-to-none. \nWe deal with shock\, bleeding\, choking\, bites\, road traffic accidents as well as the big topics of CPR and Artificial Respiration \nStudents DO NOT bring their dogs\, but I will have one or two of my Ridgebacks with me for demonstration purposes.\n.\nEach student will gain a certificate of attendance and full course notes to take away\, so note taking throughout the session is unnecessary. For students attending as part of their vocational studies\, the course generates 3 CPD points.\n.\nEverybody will be seated in a horseshoe so that EVERYBODY is on the front row – nobody should be struggling to see.\n.\nDuring the bandaging section\, I will demonstrate on one of my dogs and then students will be put into pairs to allow one to be the first aider and the other to be the doggy patient. Once the bandage is done\, students will then swap so that each not only has a go at doing the dressing but also feels how it is to be the patient and understands how the dressing feels when applied. A dog cannot give you any feedback about your skills so by doing it on a person\, we can get their honest opinion once the bandage is complete. Human skin also reacts by changing colour and temperature if it is too tight and swells up.\n.\nTo practice on a toy would not give you any of this feedback and I would not be happy about anybody practicing on a live animal until they are proficient in it – I am\, however\, more than happy for them to torture a human!\n.\nAt the end of the session\, there will be first aid products on sale too such as our Rhodes 2 Recovery book\, bandages\, first aid kits\, vet wrap\, tick pickers etc.\nCome and join us?
URL:https://rhodes2safety.com/event/k9-1st-aid-training-bearsden-glasgow/
LOCATION:Waggy Tails\, Edmonstone Hall\, 23 Glasgow Road\, Blanesfield\, Glasgow\, G639JD
CATEGORIES:Canine First Aid
ATTACH;FMTTYPE=image/jpeg:https://rhodes2safety.com/wp-content/uploads/2021/05/eye-drops.jpg
GEO:55.9330092;-4.3489658
X-APPLE-STRUCTURED-LOCATION;VALUE=URI;X-ADDRESS=Waggy Tails Edmonstone Hall 23 Glasgow Road Blanesfield Glasgow G639JD;X-APPLE-RADIUS=500;X-TITLE=Edmonstone Hall\, 23 Glasgow Road\, Blanesfield:geo:-4.3489658,55.9330092
END:VEVENT
BEGIN:VEVENT
DTSTART;TZID=Europe/London:20170505T063000
DTEND;TZID=Europe/London:20170505T220000
DTSTAMP:20260421T164149
CREATED:20170206T113226Z
LAST-MODIFIED:20170206T113226Z
UID:10002725-1493965800-1494021600@rhodes2safety.com
SUMMARY:Bearsden\, GLASGOW
DESCRIPTION:The last stop on our 2017 tour sees us pulling into Bearsden\, just north of Glasgow\, and is sure to be fun\,  lively and incredibly effective at getting the important first aid information across that could well save the life of your furry companion. \nThe K9 1st Aid courses delivered by Rhodes 2 Safety have been ranked as the UK’s Number 1 by the 2017 Business Excellence Awards so you know the information and service you get will be second-to-none. \n \nWe deal with shock\, bleeding\, choking\, bites\, road traffic accidents as well as the big topics of CPR and Artificial Respiration \nStudents DO NOT bring their dogs\, but I will have one or two of my Ridgebacks with me for demonstration purposes.\n.\nEach student will gain a certificate of attendance and full course notes to take away\, so note taking throughout the session is unnecessary. For students attending as part of their vocational studies\, the course generates 3 CPD points.\n.\nEverybody will be seated in a horseshoe so that EVERYBODY is on the front row – nobody should be struggling to see.\n.\nDuring the bandaging section\, I will demonstrate on one of my dogs and then students will be put into pairs to allow one to be the first aider and the other to be the doggy patient. Once the bandage is done\, students will then swap so that each not only has a go at doing the dressing but also feels how it is to be the patient and understands how the dressing feels when applied. A dog cannot give you any feedback about your skills so by doing it on a person\, we can get their honest opinion once the bandage is complete. Human skin also reacts by changing colour and temperature if it is too tight and swells up.\n.\nTo practice on a toy would not give you any of this feedback and I would not be happy about anybody practicing on a live animal until they are proficient in it – I am\, however\, more than happy for them to torture a human!\n.\nAt the end of the session\, there will be first aid products on sale too such as our Rhodes 2 Recovery book\, bandages\, first aid kits\, vet wrap\, tick pickers etc.\nCome and join us?
URL:https://rhodes2safety.com/event/bearsden-2/
LOCATION:Waggy Tails\, Edmonstone Hall\, 23 Glasgow Road\, Blanesfield\, Glasgow\, G639JD
CATEGORIES:Canine First Aid
ATTACH;FMTTYPE=image/jpeg:https://rhodes2safety.com/wp-content/uploads/2013/01/Canine-First-Aid-018.jpg
GEO:55.9330092;-4.3489658
X-APPLE-STRUCTURED-LOCATION;VALUE=URI;X-ADDRESS=Waggy Tails Edmonstone Hall 23 Glasgow Road Blanesfield Glasgow G639JD;X-APPLE-RADIUS=500;X-TITLE=Edmonstone Hall\, 23 Glasgow Road\, Blanesfield:geo:-4.3489658,55.9330092
END:VEVENT
END:VCALENDAR