BEGIN:VCALENDAR
VERSION:2.0
PRODID:-//Rhodes 2 Safety - ECPv6.15.20//NONSGML v1.0//EN
CALSCALE:GREGORIAN
METHOD:PUBLISH
X-WR-CALNAME:Rhodes 2 Safety
X-ORIGINAL-URL:https://rhodes2safety.com
X-WR-CALDESC:Events for Rhodes 2 Safety
REFRESH-INTERVAL;VALUE=DURATION:PT1H
X-Robots-Tag:noindex
X-PUBLISHED-TTL:PT1H
BEGIN:VTIMEZONE
TZID:Europe/London
BEGIN:DAYLIGHT
TZOFFSETFROM:+0000
TZOFFSETTO:+0100
TZNAME:BST
DTSTART:20160327T010000
END:DAYLIGHT
BEGIN:STANDARD
TZOFFSETFROM:+0100
TZOFFSETTO:+0000
TZNAME:GMT
DTSTART:20161030T010000
END:STANDARD
BEGIN:DAYLIGHT
TZOFFSETFROM:+0000
TZOFFSETTO:+0100
TZNAME:BST
DTSTART:20170326T010000
END:DAYLIGHT
BEGIN:STANDARD
TZOFFSETFROM:+0100
TZOFFSETTO:+0000
TZNAME:GMT
DTSTART:20171029T010000
END:STANDARD
BEGIN:DAYLIGHT
TZOFFSETFROM:+0000
TZOFFSETTO:+0100
TZNAME:BST
DTSTART:20180325T010000
END:DAYLIGHT
BEGIN:STANDARD
TZOFFSETFROM:+0100
TZOFFSETTO:+0000
TZNAME:GMT
DTSTART:20181028T010000
END:STANDARD
END:VTIMEZONE
BEGIN:VEVENT
DTSTART;TZID=Europe/London:20171021T153000
DTEND;TZID=Europe/London:20171021T190000
DTSTAMP:20260421T203434
CREATED:20170517T131806Z
LAST-MODIFIED:20170517T131806Z
UID:10002736-1508599800-1508612400@rhodes2safety.com
SUMMARY:Castle Howard Canine First Aid
DESCRIPTION:This session will take place in a small hamlet just outside of Castle Howard\, North Yorkshire\, and is sure to be fun\,  lively and incredibly effective at getting the important first aid information across that could well save the life of your furry companion. \nThe K9 1st Aid courses delivered by Rhodes 2 Safety have been ranked as the UK’s Number 1 by the 2017 Business Excellence Awards so you know the information and service you get will be second-to-none. \n \nWe deal with shock\, bleeding\, choking\, bites\, road traffic accidents as well as the big topics of CPR and Artificial Respiration \nStudents DO NOT bring their dogs\, but I will have one or two of my Ridgebacks with me for demonstration purposes.\n.\nEach student will gain a certificate of attendance and full course notes to take away\, so note taking throughout the session is unnecessary. For students attending as part of their vocational studies\, the course generates 3 CPD points.\n.\nEverybody will be seated in a horseshoe so that EVERYBODY is on the front row – nobody should be struggling to see.\n.\nDuring the bandaging section\, I will demonstrate on one of my dogs and then students will be put into pairs to allow one to be the first aider and the other to be the doggy patient. Once the bandage is done\, students will then swap so that each not only has a go at doing the dressing but also feels how it is to be the patient and understands how the dressing feels when applied. A dog cannot give you any feedback about your skills so by doing it on a person\, we can get their honest opinion once the bandage is complete. Human skin also reacts by changing colour and temperature if it is too tight and swells up.\n.\nTo practice on a toy would not give you any of this feedback and I would not be happy about anybody practicing on a live animal until they are proficient in it – I am\, however\, more than happy for them to torture a human!\n.\nAt the end of the session\, there will be first aid products on sale too such as our Rhodes 2 Recovery book\, bandages\, first aid kits\, vet wrap\, tick pickers etc.\nCome and join us?
URL:https://rhodes2safety.com/event/castle-howard-canine-first-aid-2/
LOCATION:Brawby Village Hall\, Brawby\, Castle Howard\, North Yorkshire\, YO17 6PY\, United Kingdom
CATEGORIES:Canine First Aid
ATTACH;FMTTYPE=image/jpeg:https://rhodes2safety.com/wp-content/uploads/2017/03/IMG_0437.jpg
GEO:54.1481535;-0.7015069
X-APPLE-STRUCTURED-LOCATION;VALUE=URI;X-ADDRESS=Brawby Village Hall Brawby Castle Howard North Yorkshire YO17 6PY United Kingdom;X-APPLE-RADIUS=500;X-TITLE=Brawby:geo:-0.7015069,54.1481535
END:VEVENT
END:VCALENDAR